BEGIN:VCALENDAR
VERSION:2.0
PRODID:-//eventon.com NONSGML v1.0//EN
BEGIN:VEVENT
UID:69e8838b5b048
DTSTAMP:20260422T101507
DTSTART:20210722T193000Z
DTEND:20210722T230000Z
TZID:UTC
LOCATION:Moonlight Party\,  Herzog Odilo Str 13
SUMMARY:Moonlight - Party
DESCRIPTION: Vini e Panini Herzog-Odilo-Strasse 13 5310 Mondsee Austria Telefon 06232 / 61 31 Fax 06232 / 45 91 viniepanini@aon.at www.viniepanini.eu\nhttps://www.blueswuzln.com/events/moonlight-party/
URL:https://www.blueswuzln.com/events/moonlight-party/
END:VEVENT
END:VCALENDAR